BEGIN:VCALENDAR
VERSION:2.0
PRODID:-//Writers Festival//Event//EN
CALSCALE:GREGORIAN
METHOD:PUBLISH
BEGIN:VEVENT
UID:wf-69e75021c24179.85551172@writersfestival.ca
DTSTAMP:20260421T062329
DTSTART;TZID=America/Toronto:20110413T190000
DTEND;TZID=America/Toronto:20110413T203000
SUMMARY:Writers Festival: Penguin Canada's Extraordinary Canadians
LOCATION:Christ Church Cathedral\, 414 Sparks St.
END:VEVENT
END:VCALENDAR