BEGIN:VCALENDAR
VERSION:2.0
PRODID:-//Writers Festival//Event//EN
CALSCALE:GREGORIAN
METHOD:PUBLISH
BEGIN:VEVENT
UID:wf-69e75b13490800.14836589@writersfestival.ca
DTSTAMP:20260421T071011
DTSTART;TZID=America/Toronto:20230507T203000
DTEND;TZID=America/Toronto:20230507T220000
SUMMARY:Writers Festival: No Place Like Home
LOCATION:Christ Church Cathedral\, 414 Sparks St.
END:VEVENT
END:VCALENDAR