BEGIN:VCALENDAR
VERSION:2.0
PRODID:-//Writers Festival//Event//EN
CALSCALE:GREGORIAN
METHOD:PUBLISH
BEGIN:VEVENT
UID:wf-69e76faaeae978.78493688@writersfestival.ca
DTSTAMP:20260421T083802
DTSTART;TZID=America/Toronto:20230506T150000
DTEND;TZID=America/Toronto:20230506T163000
SUMMARY:Writers Festival: Past Imperfect
LOCATION:Christ Church Cathedral\, 414 Sparks St.
END:VEVENT
END:VCALENDAR