BEGIN:VCALENDAR
VERSION:2.0
PRODID:-//Writers Festival//Event//EN
CALSCALE:GREGORIAN
METHOD:PUBLISH
BEGIN:VEVENT
UID:wf-69e89e9dc6d2b7.35487013@writersfestival.ca
DTSTAMP:20260422T061037
DTSTART;TZID=America/Toronto:20221022T193000
DTEND;TZID=America/Toronto:20221022T210000
SUMMARY:Writers Festival: Past Imperfect
LOCATION:Christ Church Cathedral\, 414 Sparks St.
END:VEVENT
END:VCALENDAR