BEGIN:VCALENDAR
VERSION:2.0
PRODID:-//Writers Festival//Event//EN
CALSCALE:GREGORIAN
METHOD:PUBLISH
BEGIN:VEVENT
UID:wf-69e739ec7f9f92.83287392@writersfestival.ca
DTSTAMP:20260421T044844
DTSTART;TZID=America/Toronto:20190529T190000
DTEND;TZID=America/Toronto:20190529T203000
SUMMARY:Writers Festival: One on One
LOCATION:Dominion Chalmers \, 355 Cooper St.
END:VEVENT
END:VCALENDAR