BEGIN:VCALENDAR
VERSION:2.0
PRODID:-//Writers Festival//Event//EN
CALSCALE:GREGORIAN
METHOD:PUBLISH
BEGIN:VEVENT
UID:wf-69e73ee335d5f3.28022706@writersfestival.ca
DTSTAMP:20260421T050955
DTSTART;TZID=America/Toronto:20190507T183000
DTEND;TZID=America/Toronto:20190507T200000
SUMMARY:Writers Festival: No Place Like Home
LOCATION:Christ Church Cathedral\, 414 Sparks St.
END:VEVENT
END:VCALENDAR