BEGIN:VCALENDAR
VERSION:2.0
PRODID:-//Writers Festival//Event//EN
CALSCALE:GREGORIAN
METHOD:PUBLISH
BEGIN:VEVENT
UID:wf-69e766b0604579.96841131@writersfestival.ca
DTSTAMP:20260421T075944
DTSTART;TZID=America/Toronto:20181115T190000
DTEND;TZID=America/Toronto:20181115T203000
SUMMARY:Writers Festival: Books and Biryani: Dislocation: Finding Ourselves Again
LOCATION:25OneCommunity\, 251 Bank Street\, 2nd Floor
END:VEVENT
END:VCALENDAR