BEGIN:VCALENDAR
VERSION:2.0
PRODID:-//Writers Festival//Event//EN
CALSCALE:GREGORIAN
METHOD:PUBLISH
BEGIN:VEVENT
UID:wf-69e4ee18975f08.25172007@writersfestival.ca
DTSTAMP:20260419T110040
DTSTART;TZID=America/Toronto:20230507T133000
DTEND;TZID=America/Toronto:20230507T150000
SUMMARY:Writers Festival: Outsider
LOCATION:
END:VEVENT
END:VCALENDAR