BEGIN:VCALENDAR
VERSION:2.0
PRODID:-//Writers Festival//Event//EN
CALSCALE:GREGORIAN
METHOD:PUBLISH
BEGIN:VEVENT
UID:wf-69e4fabf31f136.61297187@writersfestival.ca
DTSTAMP:20260419T115439
DTSTART;TZID=America/Toronto:20131118T190000
DTEND;TZID=America/Toronto:20131118T203000
SUMMARY:Writers Festival: OPL Teen Author Festival:  Lauren Oliver
LOCATION:Nepean Centrepointe OPL\, 101 Centrepointe Drive
END:VEVENT
END:VCALENDAR