BEGIN:VCALENDAR
VERSION:2.0
PRODID:-//Writers Festival//Event//EN
CALSCALE:GREGORIAN
METHOD:PUBLISH
BEGIN:VEVENT
UID:wf-69e7829e3bd050.37956425@writersfestival.ca
DTSTAMP:20260421T095854
DTSTART;TZID=America/Toronto:20131107T190000
DTEND;TZID=America/Toronto:20131107T203000
SUMMARY:Writers Festival: Canada in a Century of Change: One on One with Joe Clark
LOCATION:Southminster United Church\, 15 Aylmer Avenue (at Bank Street)
END:VEVENT
END:VCALENDAR