BEGIN:VCALENDAR
VERSION:2.0
PRODID:-//Writers Festival//Event//EN
CALSCALE:GREGORIAN
METHOD:PUBLISH
BEGIN:VEVENT
UID:wf-69e76b53de10a9.37814509@writersfestival.ca
DTSTAMP:20260421T081931
DTSTART;TZID=America/Toronto:20131111T190000
DTEND;TZID=America/Toronto:20131111T203000
SUMMARY:Writers Festival: Not Quite the Classics: One on One with Colin Mochrie
LOCATION:Southminster United Church\, 15 Aylmer Avenue (at Bank Street)
END:VEVENT
END:VCALENDAR