BEGIN:VCALENDAR
VERSION:2.0
PRODID:-//Writers Festival//Event//EN
CALSCALE:GREGORIAN
METHOD:PUBLISH
BEGIN:VEVENT
UID:wf-69e766b0d736c2.36574004@writersfestival.ca
DTSTAMP:20260421T075944
DTSTART;TZID=America/Toronto:20130410T190000
DTEND;TZID=America/Toronto:20130410T203000
SUMMARY:Writers Festival: One on One with Alexander McCall Smith 
LOCATION:Southminster United Church\, 15 Aylmer Avenue (at Bank Street)
END:VEVENT
END:VCALENDAR