BEGIN:VCALENDAR
VERSION:2.0
PRODID:-//Writers Festival//Event//EN
CALSCALE:GREGORIAN
METHOD:PUBLISH
BEGIN:VEVENT
UID:wf-69e7563839e0c1.23085021@writersfestival.ca
DTSTAMP:20260421T064928
DTSTART;TZID=America/Toronto:20230506T193000
DTEND;TZID=America/Toronto:20230506T210000
SUMMARY:Writers Festival: On the Ravine
LOCATION:Christ Church Cathedral\, 414 Sparks St.
END:VEVENT
END:VCALENDAR