BEGIN:VCALENDAR
VERSION:2.0
PRODID:-//Writers Festival//Event//EN
CALSCALE:GREGORIAN
METHOD:PUBLISH
BEGIN:VEVENT
UID:wf-69e74ecc28def1.25211733@writersfestival.ca
DTSTAMP:20260421T061748
DTSTART;TZID=America/Toronto:20181027T120000
DTEND;TZID=America/Toronto:20181027T133000
SUMMARY:Writers Festival: On Starlight: Literary Brunch
LOCATION:Metropolitain Brasserie\, 700 Sussex Dr.
END:VEVENT
END:VCALENDAR