BEGIN:VCALENDAR
VERSION:2.0
PRODID:-//Writers Festival//Event//EN
CALSCALE:GREGORIAN
METHOD:PUBLISH
BEGIN:VEVENT
UID:wf-69e757e1ddfd69.75534477@writersfestival.ca
DTSTAMP:20260421T065633
DTSTART;TZID=America/Toronto:20160927T190000
DTEND;TZID=America/Toronto:20160927T203000
SUMMARY:Writers Festival: When We Are Bold: Women Who Turn Our Upsidedown World Right 
LOCATION:Christ Church Cathedral\, 414 Sparks Street
END:VEVENT
END:VCALENDAR