BEGIN:VCALENDAR
VERSION:2.0
PRODID:-//Writers Festival//Event//EN
CALSCALE:GREGORIAN
METHOD:PUBLISH
BEGIN:VEVENT
UID:wf-69e753fc08a266.08568943@writersfestival.ca
DTSTAMP:20260421T063956
DTSTART;TZID=America/Toronto:20170704T190000
DTEND;TZID=America/Toronto:20170704T203000
SUMMARY:Writers Festival: NewfoundlandLiterary Dinner  with Bridget Canning\, Robert Chafe and Kathleen Winter
LOCATION:Fraser Café’s Table 40\, 7 Springfield Rd
END:VEVENT
END:VCALENDAR