BEGIN:VCALENDAR
VERSION:2.0
PRODID:-//Writers Festival//Event//EN
CALSCALE:GREGORIAN
METHOD:PUBLISH
BEGIN:VEVENT
UID:wf-69e73a7b886f94.44595880@writersfestival.ca
DTSTAMP:20260421T045107
DTSTART;TZID=America/Toronto:20200925T120000
DTEND;TZID=America/Toronto:20200925T133000
SUMMARY:Writers Festival: Neurodiversity and The Ever-Changing Brain
LOCATION:
END:VEVENT
END:VCALENDAR