BEGIN:VCALENDAR
VERSION:2.0
PRODID:-//Writers Festival//Event//EN
CALSCALE:GREGORIAN
METHOD:PUBLISH
BEGIN:VEVENT
UID:wf-69e8a216729e74.46450169@writersfestival.ca
DTSTAMP:20260422T062526
DTSTART;TZID=America/Toronto:20201022T193000
DTEND;TZID=America/Toronto:20201022T203000
SUMMARY:Writers Festival: National Book Launch: Love After the End 
LOCATION:
END:VEVENT
END:VCALENDAR