BEGIN:VCALENDAR
VERSION:2.0
PRODID:-//Writers Festival//Event//EN
CALSCALE:GREGORIAN
METHOD:PUBLISH
BEGIN:VEVENT
UID:wf-69e765f9ecc493.98453976@writersfestival.ca
DTSTAMP:20260421T075641
DTSTART;TZID=America/Toronto:20210423T120000
DTEND;TZID=America/Toronto:20210423T133000
SUMMARY:Writers Festival: Mythical Man
LOCATION:
END:VEVENT
END:VCALENDAR