BEGIN:VCALENDAR
VERSION:2.0
PRODID:-//Writers Festival//Event//EN
CALSCALE:GREGORIAN
METHOD:PUBLISH
BEGIN:VEVENT
UID:wf-69e77e2bcad6c3.95416212@writersfestival.ca
DTSTAMP:20260421T093955
DTSTART;TZID=America/Toronto:20221023T133000
DTEND;TZID=America/Toronto:20221023T150000
SUMMARY:Writers Festival: My Road from Damascus
LOCATION:Christ Church Cathedral\, 414 Sparks St.
END:VEVENT
END:VCALENDAR