BEGIN:VCALENDAR
VERSION:2.0
PRODID:-//Writers Festival//Event//EN
CALSCALE:GREGORIAN
METHOD:PUBLISH
BEGIN:VEVENT
UID:wf-69e7774b33e0b0.84655228@writersfestival.ca
DTSTAMP:20260421T091035
DTSTART;TZID=America/Toronto:20231104T190000
DTEND;TZID=America/Toronto:20231104T203000
SUMMARY:Writers Festival: Munro Beattie Lecture 2023-2024
LOCATION:Carleton Dominion-Chalmers Centre\, 355 Cooper St\,
END:VEVENT
END:VCALENDAR