BEGIN:VCALENDAR
VERSION:2.0
PRODID:-//Writers Festival//Event//EN
CALSCALE:GREGORIAN
METHOD:PUBLISH
BEGIN:VEVENT
UID:wf-69e7542d0125a5.43121255@writersfestival.ca
DTSTAMP:20260421T064045
DTSTART;TZID=America/Toronto:20181026T210000
DTEND;TZID=America/Toronto:20181026T223000
SUMMARY:Writers Festival: Modern Love
LOCATION:Christ Church Cathedral\,  414 Sparks Street
END:VEVENT
END:VCALENDAR