BEGIN:VCALENDAR
VERSION:2.0
PRODID:-//Writers Festival//Event//EN
CALSCALE:GREGORIAN
METHOD:PUBLISH
BEGIN:VEVENT
UID:wf-69e7665c7239d5.32167333@writersfestival.ca
DTSTAMP:20260421T075820
DTSTART;TZID=America/Toronto:20200918T120000
DTEND;TZID=America/Toronto:20200918T133000
SUMMARY:Writers Festival: Marathon of Hope
LOCATION:
END:VEVENT
END:VCALENDAR