BEGIN:VCALENDAR
VERSION:2.0
PRODID:-//Writers Festival//Event//EN
CALSCALE:GREGORIAN
METHOD:PUBLISH
BEGIN:VEVENT
UID:wf-69e8bcca2d5cf3.09123869@writersfestival.ca
DTSTAMP:20260422T081922
DTSTART;TZID=America/Toronto:20220909T190000
DTEND;TZID=America/Toronto:20220909T203000
SUMMARY:Writers Festival: Making Love with the Land
LOCATION:Christ Church Cathedral\, 414 Sparks St.
END:VEVENT
END:VCALENDAR