BEGIN:VCALENDAR
VERSION:2.0
PRODID:-//Writers Festival//Event//EN
CALSCALE:GREGORIAN
METHOD:PUBLISH
BEGIN:VEVENT
UID:wf-69e73f97397ed6.64012585@writersfestival.ca
DTSTAMP:20260421T051255
DTSTART;TZID=America/Toronto:20120428T113000
DTEND;TZID=America/Toronto:20120428T130000
SUMMARY:Writers Festival: Lunch with Vincent Lam at Fraser Cafe's Table 40
LOCATION:Fraser Café's Table 40\, 11 Springfield Road
END:VEVENT
END:VCALENDAR