BEGIN:VCALENDAR
VERSION:2.0
PRODID:-//Writers Festival//Event//EN
CALSCALE:GREGORIAN
METHOD:PUBLISH
BEGIN:VEVENT
UID:wf-69e7405ce8cc47.09633029@writersfestival.ca
DTSTAMP:20260421T051612
DTSTART;TZID=America/Toronto:20141114T120000
DTEND;TZID=America/Toronto:20141114T133000
SUMMARY:Writers Festival: Literary Luncheon with Ann-Marie MacDonald
LOCATION:Metropolitain Brasserie\, 700 Sussex Dr.
END:VEVENT
END:VCALENDAR