BEGIN:VCALENDAR
VERSION:2.0
PRODID:-//Writers Festival//Event//EN
CALSCALE:GREGORIAN
METHOD:PUBLISH
BEGIN:VEVENT
UID:wf-69e7405adc3446.18167339@writersfestival.ca
DTSTAMP:20260421T051610
DTSTART;TZID=America/Toronto:20221209T130000
DTEND;TZID=America/Toronto:20221209T143000
SUMMARY:Writers Festival: Lifesavers and Body Snatchers
LOCATION:
END:VEVENT
END:VCALENDAR