BEGIN:VCALENDAR
VERSION:2.0
PRODID:-//Writers Festival//Event//EN
CALSCALE:GREGORIAN
METHOD:PUBLISH
BEGIN:VEVENT
UID:wf-69e8a130077209.36053698@writersfestival.ca
DTSTAMP:20260422T062136
DTSTART;TZID=America/Toronto:20141026T203000
DTEND;TZID=America/Toronto:20141026T220000
SUMMARY:Writers Festival: Lament for a Nation:An Ethical Challengewith David Austin and Anthony Stewart
LOCATION:Fox and Feather\, 2nd Floor\, 283 Elgin St.
END:VEVENT
END:VCALENDAR