BEGIN:VCALENDAR
VERSION:2.0
PRODID:-//Writers Festival//Event//EN
CALSCALE:GREGORIAN
METHOD:PUBLISH
BEGIN:VEVENT
UID:wf-69e75be837d534.21222455@writersfestival.ca
DTSTAMP:20260421T071344
DTSTART;TZID=America/Toronto:20221026T180000
DTEND;TZID=America/Toronto:20221026T193000
SUMMARY:Writers Festival: Kiss the Red Stairs
LOCATION:Christ Church Cathedral\, 414 Sparks St.
END:VEVENT
END:VCALENDAR