BEGIN:VCALENDAR
VERSION:2.0
PRODID:-//Writers Festival//Event//EN
CALSCALE:GREGORIAN
METHOD:PUBLISH
BEGIN:VEVENT
UID:wf-69e74e8d87e448.64721588@writersfestival.ca
DTSTAMP:20260421T061645
DTSTART;TZID=America/Toronto:20150908T190000
DTEND;TZID=America/Toronto:20150908T203000
SUMMARY:Writers Festival: John Ibbitson on Stephen Harper
LOCATION:Centretown United Church\, 507 Bank St.
END:VEVENT
END:VCALENDAR