BEGIN:VCALENDAR
VERSION:2.0
PRODID:-//Writers Festival//Event//EN
CALSCALE:GREGORIAN
METHOD:PUBLISH
BEGIN:VEVENT
UID:wf-69e73e51dd0492.51638469@writersfestival.ca
DTSTAMP:20260421T050729
DTSTART;TZID=America/Toronto:20170328T190000
DTEND;TZID=America/Toronto:20170328T203000
SUMMARY:Writers Festival: Ingenious  with David Johnstonand Tom Jenkins
LOCATION:Library and Archives Canada\, 395 Wellington st.
END:VEVENT
END:VCALENDAR