BEGIN:VCALENDAR
VERSION:2.0
PRODID:-//Writers Festival//Event//EN
CALSCALE:GREGORIAN
METHOD:PUBLISH
BEGIN:VEVENT
UID:wf-69e4ec4fd37e31.40074940@writersfestival.ca
DTSTAMP:20260419T105303
DTSTART;TZID=America/Toronto:20171020T183000
DTEND;TZID=America/Toronto:20171020T200000
SUMMARY:Writers Festival: In Search of a Better World with Payam Akhavan
LOCATION:Christ Church Cathedral\, 414 Sparks St.
END:VEVENT
END:VCALENDAR