BEGIN:VCALENDAR
VERSION:2.0
PRODID:-//Writers Festival//Event//EN
CALSCALE:GREGORIAN
METHOD:PUBLISH
BEGIN:VEVENT
UID:wf-69e756754f2515.66782923@writersfestival.ca
DTSTAMP:20260421T065029
DTSTART;TZID=America/Toronto:20201023T123000
DTEND;TZID=America/Toronto:20201023T140000
SUMMARY:Writers Festival: Imagining Worlds (part 2)
LOCATION:
END:VEVENT
END:VCALENDAR