BEGIN:VCALENDAR
VERSION:2.0
PRODID:-//Writers Festival//Event//EN
CALSCALE:GREGORIAN
METHOD:PUBLISH
BEGIN:VEVENT
UID:wf-69e74ff1f3d7e2.74724970@writersfestival.ca
DTSTAMP:20260421T062241
DTSTART;TZID=America/Toronto:20181027T213000
DTEND;TZID=America/Toronto:20181027T230000
SUMMARY:Writers Festival: I’m Afraid of Men
LOCATION:Christ Church Cathedral\, 414 Sparks Street
END:VEVENT
END:VCALENDAR