BEGIN:VCALENDAR
VERSION:2.0
PRODID:-//Writers Festival//Event//EN
CALSCALE:GREGORIAN
METHOD:PUBLISH
BEGIN:VEVENT
UID:wf-69e752393c7340.76758570@writersfestival.ca
DTSTAMP:20260421T063225
DTSTART;TZID=America/Toronto:20121028T183000
DTEND;TZID=America/Toronto:20121028T200000
SUMMARY:Writers Festival: I’ll Seize the Day Tomorrow One on One with Jonathan Goldstein
LOCATION:Knox Presbyterian Church\, 120 Lisgar st. (at Elgin)
END:VEVENT
END:VCALENDAR