BEGIN:VCALENDAR
VERSION:2.0
PRODID:-//Writers Festival//Event//EN
CALSCALE:GREGORIAN
METHOD:PUBLISH
BEGIN:VEVENT
UID:wf-69e515618e1cf6.73865448@writersfestival.ca
DTSTAMP:20260419T134817
DTSTART;TZID=America/Toronto:20221022T150000
DTEND;TZID=America/Toronto:20221022T163000
SUMMARY:Writers Festival: How Climate Migration Will Reshape Our World
LOCATION:
END:VEVENT
END:VCALENDAR