BEGIN:VCALENDAR
VERSION:2.0
PRODID:-//Writers Festival//Event//EN
CALSCALE:GREGORIAN
METHOD:PUBLISH
BEGIN:VEVENT
UID:wf-69e73d95d340b6.05997596@writersfestival.ca
DTSTAMP:20260421T050421
DTSTART;TZID=America/Toronto:20231204T190000
DTEND;TZID=America/Toronto:20231204T203000
SUMMARY:Writers Festival: How Canada Works
LOCATION:St. John the Evangelist\, 275 Elgin St.
END:VEVENT
END:VCALENDAR