BEGIN:VCALENDAR
VERSION:2.0
PRODID:-//Writers Festival//Event//EN
CALSCALE:GREGORIAN
METHOD:PUBLISH
BEGIN:VEVENT
UID:wf-69e74e4c13a108.16304223@writersfestival.ca
DTSTAMP:20260421T061540
DTSTART;TZID=America/Toronto:20240215T123000
DTEND;TZID=America/Toronto:20240215T140000
SUMMARY:Writers Festival: Hollow Bamboo
LOCATION:
END:VEVENT
END:VCALENDAR