BEGIN:VCALENDAR
VERSION:2.0
PRODID:-//Writers Festival//Event//EN
CALSCALE:GREGORIAN
METHOD:PUBLISH
BEGIN:VEVENT
UID:wf-69e74e3a6c4d57.52141256@writersfestival.ca
DTSTAMP:20260421T061522
DTSTART;TZID=America/Toronto:20191025T120000
DTEND;TZID=America/Toronto:20191025T133000
SUMMARY:Writers Festival: Graphic History
LOCATION:
END:VEVENT
END:VCALENDAR