BEGIN:VCALENDAR
VERSION:2.0
PRODID:-//Writers Festival//Event//EN
CALSCALE:GREGORIAN
METHOD:PUBLISH
BEGIN:VEVENT
UID:wf-69e73e53620e93.51452574@writersfestival.ca
DTSTAMP:20260421T050731
DTSTART;TZID=America/Toronto:20180501T183000
DTEND;TZID=America/Toronto:20180501T200000
SUMMARY:Writers Festival: Full Disclosure
LOCATION:Christ Church Cathedral\, 414 Sparks St.
END:VEVENT
END:VCALENDAR