BEGIN:VCALENDAR
VERSION:2.0
PRODID:-//Writers Festival//Event//EN
CALSCALE:GREGORIAN
METHOD:PUBLISH
BEGIN:VEVENT
UID:wf-69e73dc115faf1.14014586@writersfestival.ca
DTSTAMP:20260421T050505
DTSTART;TZID=America/Toronto:20201124T120000
DTEND;TZID=America/Toronto:20201124T133000
SUMMARY:Writers Festival: Education and Social Mobility
LOCATION:
END:VEVENT
END:VCALENDAR