BEGIN:VCALENDAR
VERSION:2.0
PRODID:-//Writers Festival//Event//EN
CALSCALE:GREGORIAN
METHOD:PUBLISH
BEGIN:VEVENT
UID:wf-69e73d958296b2.68212189@writersfestival.ca
DTSTAMP:20260421T050421
DTSTART;TZID=America/Toronto:20220510T120100
DTEND;TZID=America/Toronto:20220510T133100
SUMMARY:Writers Festival: Easy Beauty
LOCATION:
END:VEVENT
END:VCALENDAR