BEGIN:VCALENDAR
VERSION:2.0
PRODID:-//Writers Festival//Event//EN
CALSCALE:GREGORIAN
METHOD:PUBLISH
BEGIN:VEVENT
UID:wf-69e73e945df954.78379862@writersfestival.ca
DTSTAMP:20260421T050836
DTSTART;TZID=America/Toronto:20221006T120000
DTEND;TZID=America/Toronto:20221006T133000
SUMMARY:Writers Festival: Dream of Me as Water
LOCATION:
END:VEVENT
END:VCALENDAR