BEGIN:VCALENDAR
VERSION:2.0
PRODID:-//Writers Festival//Event//EN
CALSCALE:GREGORIAN
METHOD:PUBLISH
BEGIN:VEVENT
UID:wf-69e73ce685d5d5.00527127@writersfestival.ca
DTSTAMP:20260421T050126
DTSTART;TZID=America/Toronto:20200504T170000
DTEND;TZID=America/Toronto:20200504T220000
SUMMARY:Writers Festival: Day Five
LOCATION:
END:VEVENT
END:VCALENDAR