BEGIN:VCALENDAR
VERSION:2.0
PRODID:-//Writers Festival//Event//EN
CALSCALE:GREGORIAN
METHOD:PUBLISH
BEGIN:VEVENT
UID:wf-69e76fe6b96556.97572275@writersfestival.ca
DTSTAMP:20260421T083902
DTSTART;TZID=America/Toronto:20221023T203000
DTEND;TZID=America/Toronto:20221023T220000
SUMMARY:Writers Festival: Culture of Conspiracy
LOCATION:Christ Church Cathedral\, 414 Sparks St.
END:VEVENT
END:VCALENDAR