BEGIN:VCALENDAR
VERSION:2.0
PRODID:-//Writers Festival//Event//EN
CALSCALE:GREGORIAN
METHOD:PUBLISH
BEGIN:VEVENT
UID:wf-69e740b23aaf56.36353097@writersfestival.ca
DTSTAMP:20260421T051738
DTSTART;TZID=America/Toronto:20140426T100000
DTEND;TZID=America/Toronto:20140426T113000
SUMMARY:Writers Festival: Criticism and the Art of Slow Looking: Writing Workshop
LOCATION:The Ottawa Art Gallery\, Arts Court\, 2 Daly Avenue
END:VEVENT
END:VCALENDAR