BEGIN:VCALENDAR
VERSION:2.0
PRODID:-//Writers Festival//Event//EN
CALSCALE:GREGORIAN
METHOD:PUBLISH
BEGIN:VEVENT
UID:wf-69e4ff887d1839.25156415@writersfestival.ca
DTSTAMP:20260419T121504
DTSTART;TZID=America/Toronto:20221022T133000
DTEND;TZID=America/Toronto:20221022T150000
SUMMARY:Writers Festival: Civilization and the Stars
LOCATION:
END:VEVENT
END:VCALENDAR