BEGIN:VCALENDAR
VERSION:2.0
PRODID:-//Writers Festival//Event//EN
CALSCALE:GREGORIAN
METHOD:PUBLISH
BEGIN:VEVENT
UID:wf-69e73e2f8cef34.25043159@writersfestival.ca
DTSTAMP:20260421T050655
DTSTART;TZID=America/Toronto:20191120T130000
DTEND;TZID=America/Toronto:20191120T143000
SUMMARY:Writers Festival: Write On! Chapbook Showcase
LOCATION:Carleton Dominion-Chalmers Centre\, 355 Cooper\, at O’Connor
END:VEVENT
END:VCALENDAR