BEGIN:VCALENDAR
VERSION:2.0
PRODID:-//Writers Festival//Event//EN
CALSCALE:GREGORIAN
METHOD:PUBLISH
BEGIN:VEVENT
UID:wf-69e73dbfd53d69.98543377@writersfestival.ca
DTSTAMP:20260421T050503
DTSTART;TZID=America/Toronto:20191121T093000
DTEND;TZID=America/Toronto:20191121T114500
SUMMARY:Writers Festival: Write On! Chapbook Showcase and Breakout Sessions
LOCATION:Carleton Dominion-Chalmers Centre\, 355 Cooper\, at O’Connor
END:VEVENT
END:VCALENDAR