BEGIN:VCALENDAR
VERSION:2.0
PRODID:-//Writers Festival//Event//EN
CALSCALE:GREGORIAN
METHOD:PUBLISH
BEGIN:VEVENT
UID:wf-69e75238597948.26753341@writersfestival.ca
DTSTAMP:20260421T063224
DTSTART;TZID=America/Toronto:20161025T203000
DTEND;TZID=America/Toronto:20161025T220000
SUMMARY:Writers Festival: Cause and Effect  with Jared Young\, Nathan Whitlock and Iain Reid
LOCATION:Christ Church Cathedral\, 414 Sparks Street
END:VEVENT
END:VCALENDAR